BEGIN:VCALENDAR
PRODID:-//TYPO3/NONSGML News system (news)//EN
VERSION:2.0
BEGIN:VEVENT
DTSTAMP:20191024T094902
DTSTART;VALUE=DATE:20170608
SUMMARY:Fraktion DIE LINKE. im Hessischen Landtag: Fachgespräch &quot;Probleme und Perspektiven der schulischen Inklusion in Hessen&quot;
LOCATION:Hessischer Landtag
UID:news-104573@www.linksfraktion-hessen.de
END:VEVENT
END:VCALENDAR