BEGIN:VCALENDAR
PRODID:-//TYPO3/NONSGML News system (news)//EN
VERSION:2.0
BEGIN:VEVENT
DTSTAMP:20191024T094902
DTSTART;VALUE=DATE:20090704
SUMMARY:Fraktion DIE LINKE. im Hessischen Landtag: Werkstattgespräch &quot;Islamischer Religionsunterricht in Hessen&quot;
LOCATION:Hessischer Landtag
UID:news-104575@www.linksfraktion-hessen.de
END:VEVENT
END:VCALENDAR