BEGIN:VCALENDAR
PRODID:-//TYPO3/NONSGML News system (news)//EN
VERSION:2.0
BEGIN:VEVENT
DTSTAMP:20220302T170242
DTSTART;VALUE=DATE:20220304T180000
DTEND;VALUE=DATE:20220304T180000
SUMMARY:Abstand regeln! Wer schützt vor Abtreibungsgegner:innen?
LOCATION:Haus am Dom, Domplatz 3, Frankfurt am Main und online
UID:news-114355@www.linksfraktion-hessen.de
END:VEVENT
END:VCALENDAR