BEGIN:VCALENDAR
PRODID:-//TYPO3/NONSGML News system (news)//EN
VERSION:2.0
BEGIN:VEVENT
DTSTAMP:20191024T094902
DTSTART;VALUE=DATE:20180908
SUMMARY:Bundes- und Landtagsfraktion DIE LINKE: Friedenspolitischer Ratschlag gegen Aufrüstungswahn und neue Kriegsgefahr
LOCATION:DGB-Haus, Frankfurt
UID:news-104042@www.linksfraktion-hessen.de
END:VEVENT
END:VCALENDAR