BEGIN:VCALENDAR
PRODID:-//TYPO3/NONSGML News system (news)//EN
VERSION:2.0
BEGIN:VEVENT
DTSTAMP:20220406T143915
DTSTART;VALUE=DATE:20220408T190000
DTEND;VALUE=DATE:20220408T190000
SUMMARY:Wiesbadens Rolle in globalen Kriegen und Konflikten
LOCATION:Jugendzentrum Georg-Buch-Haus
UID:news-114569@www.linksfraktion-hessen.de
END:VEVENT
END:VCALENDAR