BEGIN:VCALENDAR
PRODID:-//TYPO3/NONSGML News system (news)//EN
VERSION:2.0
BEGIN:VEVENT
DTSTAMP:20210817T112510
DTSTART;VALUE=DATE:20211006T180000
DTEND;VALUE=DATE:20211006T200000
SUMMARY:Fraktion DIE LINKE im Hessischen Landtag, LAG Gesundheit: Wie viel Personal braucht gute (Langzeit-)Pflege?

UID:news-113751@www.linksfraktion-hessen.de
END:VEVENT
END:VCALENDAR