BEGIN:VCALENDAR
PRODID:-//TYPO3/NONSGML News system (news)//EN
VERSION:2.0
BEGIN:VEVENT
DTSTAMP:20200124T102304
DTSTART;VALUE=DATE:20191107T190000
DTEND;VALUE=DATE:20191107T190000
SUMMARY:Straßenausbaubeiträge in Ehringshausen - wie abschaffen?

UID:news-104732@www.linksfraktion-hessen.de
END:VEVENT
END:VCALENDAR