BEGIN:VCALENDAR
PRODID:-//TYPO3/NONSGML News system (news)//EN
VERSION:2.0
BEGIN:VEVENT
DTSTAMP:20211118T135212
DTSTART;VALUE=DATE:20211121T110000
DTEND;VALUE=DATE:20211121T170000
SUMMARY:Fraktion DIE LINKE. im Hessischen Landtag, Rosa-Luxemburg-Stiftung, Friedens- und Zukunftswerkstatt: „Hessen gab sich eine sozialistische Verfassung“  75 Jahre Landesverfassung Hessen
LOCATION:Gewerkschaftshaus, Wilhelm-Leuschner-Str. 69-77, 60329 Frankfurt am Main
UID:news-113890@www.linksfraktion-hessen.de
END:VEVENT
END:VCALENDAR