BEGIN:VCALENDAR
PRODID:-//TYPO3/NONSGML News system (news)//EN
VERSION:2.0
BEGIN:VEVENT
DTSTAMP:20191024T094902
DTSTART;VALUE=DATE:20180207T193000
DTEND;VALUE=DATE:20180207T193000
SUMMARY:Fraktion DIE LINKE. im Hessischen Landtag: Podiumsdiskussion &quot;Stirbt Freiheit mit Sicherheit? Staatstrojaner, Online-Überwachung, kriminelle V-Leute&quot;
LOCATION:Haus an der Marktkirche, Wiesbaden
UID:news-104030@www.linksfraktion-hessen.de
END:VEVENT
END:VCALENDAR