BEGIN:VCALENDAR
PRODID:-//TYPO3/NONSGML News system (news)//EN
VERSION:2.0
BEGIN:VEVENT
DTSTAMP:20191024T094902
DTSTART;VALUE=DATE:20110129
SUMMARY:Fraktion DIE LINKE. im Hessischen Landtag, RLS Hessen, YEK-KOM e.V.: Tagung &quot;Kurdinnen und Kurden in Hessen – Geschichte, Gegenwart und Perspektiven der Gleichstellung&quot;
LOCATION:Hessischer Landtag
UID:news-104576@www.linksfraktion-hessen.de
END:VEVENT
END:VCALENDAR