BEGIN:VCALENDAR
PRODID:-//TYPO3/NONSGML News system (news)//EN
VERSION:2.0
BEGIN:VEVENT
DTSTAMP:20210106T101148
DTSTART;VALUE=DATE:20210119T190000
DTEND;VALUE=DATE:20210119T210000
SUMMARY:Fraktion DIE LINKE. im Hessischen Landtag: Justizvollzug in Hessen – mehr als Wegsperren? 
LOCATION:online via Zoom
UID:news-112784@www.linksfraktion-hessen.de
END:VEVENT
END:VCALENDAR