BEGIN:VCALENDAR
PRODID:-//TYPO3/NONSGML News system (news)//EN
VERSION:2.0
BEGIN:VEVENT
DTSTAMP:20200124T102236
DTSTART;VALUE=DATE:20200215T110000
DTEND;VALUE=DATE:20200215T110000
SUMMARY:Ackerkonferenz: Beton kann man nicht essen
LOCATION:„Offener Kanal Fulda&quot;, Bahnhofsstraße 26, 36037 Fulda
UID:news-104966@www.linksfraktion-hessen.de
END:VEVENT
END:VCALENDAR