BEGIN:VCALENDAR
PRODID:-//TYPO3/NONSGML News system (news)//EN
VERSION:2.0
BEGIN:VEVENT
DTSTAMP:20201022T091149
DTSTART;VALUE=DATE:20200304T183000
DTEND;VALUE=DATE:20200304T183000
SUMMARY:Lebensmittel: Der billige Preis lügt!
LOCATION:Bürgerhaus Korbach, Kirchstraße 7
UID:news-105086@www.linksfraktion-hessen.de
END:VEVENT
END:VCALENDAR