BEGIN:VCALENDAR
PRODID:-//TYPO3/NONSGML News system (news)//EN
VERSION:2.0
BEGIN:VEVENT
DTSTAMP:20191024T094902
DTSTART;VALUE=DATE:20190817T100000
DTEND;VALUE=DATE:20190817T160000
SUMMARY:Fraktion DIE LINKE. im Hessischen Landtag: 7. Kommunalpolitische Konferenz
LOCATION:Hoffmanns Höfe, Frankfurt 
UID:news-104045@www.linksfraktion-hessen.de
END:VEVENT
END:VCALENDAR