BEGIN:VCALENDAR
PRODID:-//TYPO3/NONSGML News system (news)//EN
VERSION:2.0
BEGIN:VEVENT
DTSTAMP:20210721T103954
DTSTART;VALUE=DATE:20210903T100000
DTEND;VALUE=DATE:20210903T100000
SUMMARY:Fraktion DIE LINKE. im Hessischen Landtag: Fachgespräch: Kinderrechte im Widerspruch zu Kinderarmut
LOCATION:Wiesbaden\, Haus an der Marktkirche 
UID:news-113665@www.linksfraktion-hessen.de
END:VEVENT
END:VCALENDAR