BEGIN:VCALENDAR
PRODID:-//TYPO3/NONSGML News system (news)//EN
VERSION:2.0
BEGIN:VEVENT
DTSTAMP:20191024T094902
DTSTART;VALUE=DATE:20180608
SUMMARY:Fraktion DIE LINKE. im Hessischen Landtag: Sozialpolitische Tagung: &quot;Sozial ist, was Armut abschafft!&quot;
LOCATION:Hessischer Landtag
UID:news-104038@www.linksfraktion-hessen.de
END:VEVENT
END:VCALENDAR