BEGIN:VCALENDAR
PRODID:-//TYPO3/NONSGML News system (news)//EN
VERSION:2.0
BEGIN:VEVENT
DTSTAMP:20201022T162908
DTSTART;VALUE=DATE:20201023T180000
DTEND;VALUE=DATE:20201023T210000
SUMMARY:Fraktion DIE LINKE. im Hessischen Landtag: VERSCHOBEN - Strukturwandel in der Automobilindustrie - Jetzt? Oder nie?
LOCATION:Stadthalle Baunatal, Marktplatz 14, 34225 Baunatal
UID:news-112308@www.linksfraktion-hessen.de
END:VEVENT
END:VCALENDAR