BEGIN:VCALENDAR
PRODID:-//TYPO3/NONSGML News system (news)//EN
VERSION:2.0
BEGIN:VEVENT
DTSTAMP:20191128T153445
DTSTART;VALUE=DATE:20191203T183000
DTEND;VALUE=DATE:20191203T213000
SUMMARY:UKGM - Pflegenotstand und Untätigkeit der Landesregierung!
LOCATION:Marburg\, TTZ 
UID:news-104803@www.linksfraktion-hessen.de
END:VEVENT
END:VCALENDAR