BEGIN:VCALENDAR
PRODID:-//TYPO3/NONSGML News system (news)//EN
VERSION:2.0
BEGIN:VEVENT
DTSTAMP:20210715T142542
DTSTART;VALUE=DATE:20210720T200000
DTEND;VALUE=DATE:20210720T220000
SUMMARY:Unser Uniklinikum? Über die mögliche Rücküberführung des UKGM in öffentliches Eigentum
LOCATION:Software Center Marburg
UID:news-113669@www.linksfraktion-hessen.de
END:VEVENT
END:VCALENDAR