BEGIN:VCALENDAR
PRODID:-//TYPO3/NONSGML News system (news)//EN
VERSION:2.0
BEGIN:VEVENT
DTSTAMP:20230821T162023
DTSTART;VALUE=DATE:20230722T100000
DTEND;VALUE=DATE:20230722T170000
SUMMARY:Im Lichte der GEAS-Reform: Wie weiter mit der Fluchtpolitik in Europa und in Hessen?
LOCATION:Saalbau Gallus, Frankenallee 111, 60326 Frankfurt am Main
UID:news-116168@www.linksfraktion-hessen.de
END:VEVENT
END:VCALENDAR