BEGIN:VCALENDAR
PRODID:-//TYPO3/NONSGML News system (news)//EN
VERSION:2.0
BEGIN:VEVENT
DTSTAMP:20230623T134727
DTSTART;VALUE=DATE:20230704T103000
DTEND;VALUE=DATE:20230704T160000
SUMMARY:Anforderungen der Gewerkschaften und betrieblicher Interessensvertretungen an die Politik
LOCATION:DGB-Haus Frankfurt
UID:news-116003@www.linksfraktion-hessen.de
END:VEVENT
END:VCALENDAR