BEGIN:VCALENDAR
PRODID:-//TYPO3/NONSGML News system (news)//EN
VERSION:2.0
BEGIN:VEVENT
DTSTAMP:20230623T134652
DTSTART;VALUE=DATE:20230712T100000
DTEND;VALUE=DATE:20230712T160000
SUMMARY:Die Stimme der Arbeit in Hessen stärken. Mitbestimmung bei Daseinsvorsorge, Transformation und Digitalisierung.
LOCATION:Stadtteilzentrum Vorderer Westen, Kassel
UID:news-116055@www.linksfraktion-hessen.de
END:VEVENT
END:VCALENDAR