BEGIN:VCALENDAR
PRODID:-//TYPO3/NONSGML News system (news)//EN
VERSION:2.0
BEGIN:VEVENT
DTSTAMP:20191024T094902
DTSTART;VALUE=DATE:20150221
SUMMARY:Fraktion DIE LINKE. im Hessischen Landtag: Erste Tiertagung &quot;Tiere sind keine Ware&quot;
LOCATION:Hessischer Landtag
UID:news-103749@www.linksfraktion-hessen.de
END:VEVENT
END:VCALENDAR