BEGIN:VCALENDAR
PRODID:-//TYPO3/NONSGML News system (news)//EN
VERSION:2.0
BEGIN:VEVENT
DTSTAMP:20191024T094902
DTSTART;VALUE=DATE:20170325
SUMMARY:Fraktion DIE LINKE. im Hessischen Landtag: Fachtagung &quot;Kinder und Jugendliche haben alles Recht der Welt&quot;
LOCATION:Hessischer Landtag 
UID:news-104024@www.linksfraktion-hessen.de
END:VEVENT
END:VCALENDAR