BEGIN:VCALENDAR
PRODID:-//TYPO3/NONSGML News system (news)//EN
VERSION:2.0
BEGIN:VEVENT
DTSTAMP:20200214T150052
DTSTART;VALUE=DATE:20200221T180000
DTEND;VALUE=DATE:20200221T180000
SUMMARY:Klimagerecht – und wer bezahlt!?
LOCATION:Stadtteilzentrum Vorderer Westen, Elfbuchenstraße 3, Kassel
UID:news-105026@www.linksfraktion-hessen.de
END:VEVENT
END:VCALENDAR