BEGIN:VCALENDAR
PRODID:-//TYPO3/NONSGML News system (news)//EN
VERSION:2.0
BEGIN:VEVENT
DTSTAMP:20211021T145828
DTSTART;VALUE=DATE:20211103T190000
DTEND;VALUE=DATE:20211103T190000
SUMMARY:Fraktion DIE LINKE. im Hessischen Landtag: Machen uns Gewerbegebiete satt?
LOCATION:Posthotel Johannesberg, 36341 Lauterbach 
UID:news-113895@www.linksfraktion-hessen.de
END:VEVENT
END:VCALENDAR