BEGIN:VCALENDAR
PRODID:-//TYPO3/NONSGML News system (news)//EN
VERSION:2.0
BEGIN:VEVENT
DTSTAMP:20200124T103715
DTSTART;VALUE=DATE:20200207T110000
DTEND;VALUE=DATE:20200207T110000
SUMMARY:Ohne Zwang! Psychiatrie in Hessen neugestalten 
LOCATION:Wiesbaden\, Hessischer Landtag 
UID:news-104967@www.linksfraktion-hessen.de
END:VEVENT
END:VCALENDAR