BEGIN:VCALENDAR
PRODID:-//TYPO3/NONSGML News system (news)//EN
VERSION:2.0
BEGIN:VEVENT
DTSTAMP:20191024T094902
DTSTART;VALUE=DATE:20180622
SUMMARY:Fraktion DIE LINKE. im Hessischen Landtag: Ratschlag &quot;Wochenmarkt statt Weltmarkt&quot;
LOCATION:DITSL, Witzenhausen
UID:news-104040@www.linksfraktion-hessen.de
END:VEVENT
END:VCALENDAR