BEGIN:VCALENDAR
PRODID:-//TYPO3/NONSGML News system (news)//EN
VERSION:2.0
BEGIN:VEVENT
DTSTAMP:20230627T000945
DTSTART;VALUE=DATE:20230705T193000
DTEND;VALUE=DATE:20230705T220000
SUMMARY:Waffenschmiede Hessen: über Rüstung, Militär und Alternativen
LOCATION:Theater im Pädagog, Pädagogstr. 5, Darmstadt
UID:news-116096@www.linksfraktion-hessen.de
END:VEVENT
END:VCALENDAR