BEGIN:VCALENDAR
PRODID:-//TYPO3/NONSGML News system (news)//EN
VERSION:2.0
BEGIN:VEVENT
DTSTAMP:20230628T133104
DTSTART;VALUE=DATE:20230704T180000
DTEND;VALUE=DATE:20230704T210000
SUMMARY:Waffenschmiede Hessen: über Rüstung, Militär und Alternativen
LOCATION:DGB-Haus, Wilhelm-Leuschner-Str. 69-77, Frankfurt
UID:news-116116@www.linksfraktion-hessen.de
END:VEVENT
END:VCALENDAR