BEGIN:VCALENDAR
PRODID:-//TYPO3/NONSGML News system (news)//EN
VERSION:2.0
BEGIN:VEVENT
DTSTAMP:20230628T133120
DTSTART;VALUE=DATE:20230703T190000
DTEND;VALUE=DATE:20230703T220000
SUMMARY:Waffenschmiede Hessen: über Rüstung, Militär und Alternativen
LOCATION:Café Buch-Oase, Germaniastr. 14, Kassel
UID:news-116115@www.linksfraktion-hessen.de
END:VEVENT
END:VCALENDAR