BEGIN:VCALENDAR
PRODID:-//TYPO3/NONSGML News system (news)//EN
VERSION:2.0
BEGIN:VEVENT
DTSTAMP:20191024T094902
DTSTART;VALUE=DATE:20171208
SUMMARY:Bundes- und Landtagsfraktion DIE LINKE : Sozial-ökologischer Ratschlag
LOCATION:Ka-Eins-Ökohaus, Frankfurt
UID:news-104028@www.linksfraktion-hessen.de
END:VEVENT
END:VCALENDAR