BEGIN:VCALENDAR
PRODID:-//TYPO3/NONSGML News system (news)//EN
VERSION:2.0
BEGIN:VEVENT
DTSTAMP:20231113T170947
DTSTART;VALUE=DATE:20231201T170000
DTEND;VALUE=DATE:20231201T200000
SUMMARY:Sozial-ökologisches Verkehrswende-Forum
LOCATION:&quot;Gleis 1&quot; am Hauptbahnhof Kassel
UID:news-116381@www.linksfraktion-hessen.de
END:VEVENT
END:VCALENDAR