BEGIN:VCALENDAR
PRODID:-//TYPO3/NONSGML News system (news)//EN
VERSION:2.0
BEGIN:VEVENT
DTSTAMP:20220704T154058
DTSTART;VALUE=DATE:20220709T120000
DTEND;VALUE=DATE:20220709T140000
SUMMARY:Linksfraktion Hessen: Wen trifft die kalte Dusche? Talk zu explodierenden Strompreisen
LOCATION:Hauptwache, Frankfurt
UID:news-114833@www.linksfraktion-hessen.de
END:VEVENT
END:VCALENDAR