BEGIN:VCALENDAR
PRODID:-//TYPO3/NONSGML News system (news)//EN
VERSION:2.0
BEGIN:VEVENT
DTSTAMP:20191024T094902
DTSTART;VALUE=DATE:20161001
SUMMARY:Bundes- und Landtagsfraktion DIE LINKE: Zweite Tiertagung: &quot;Mensch-Tier-Verhältnis - Von der Ausbeutung zum Respekt&quot;
LOCATION:Hessischer Landtag
UID:news-103747@www.linksfraktion-hessen.de
END:VEVENT
END:VCALENDAR